BEGIN:VCALENDAR
VERSION:2.0
PRODID:-//Holy Savior Academy - ECPv6.15.20//NONSGML v1.0//EN
CALSCALE:GREGORIAN
METHOD:PUBLISH
X-WR-CALNAME:Holy Savior Academy
X-ORIGINAL-URL:https://holysavioracademy.com
X-WR-CALDESC:Events for Holy Savior Academy
REFRESH-INTERVAL;VALUE=DURATION:PT1H
X-Robots-Tag:noindex
X-PUBLISHED-TTL:PT1H
BEGIN:VTIMEZONE
TZID:America/New_York
BEGIN:DAYLIGHT
TZOFFSETFROM:-0500
TZOFFSETTO:-0400
TZNAME:EDT
DTSTART:20250309T070000
END:DAYLIGHT
BEGIN:STANDARD
TZOFFSETFROM:-0400
TZOFFSETTO:-0500
TZNAME:EST
DTSTART:20251102T060000
END:STANDARD
BEGIN:DAYLIGHT
TZOFFSETFROM:-0500
TZOFFSETTO:-0400
TZNAME:EDT
DTSTART:20260308T070000
END:DAYLIGHT
BEGIN:STANDARD
TZOFFSETFROM:-0400
TZOFFSETTO:-0500
TZNAME:EST
DTSTART:20261101T060000
END:STANDARD
BEGIN:DAYLIGHT
TZOFFSETFROM:-0500
TZOFFSETTO:-0400
TZNAME:EDT
DTSTART:20270314T070000
END:DAYLIGHT
BEGIN:STANDARD
TZOFFSETFROM:-0400
TZOFFSETTO:-0500
TZNAME:EST
DTSTART:20271107T060000
END:STANDARD
END:VTIMEZONE
BEGIN:VEVENT
DTSTART;VALUE=DATE:20260422
DTEND;VALUE=DATE:20260423
DTSTAMP:20260421T043345
CREATED:20260417T125309Z
LAST-MODIFIED:20260417T125309Z
UID:10001049-1776816000-1776902399@holysavioracademy.com
SUMMARY:National Jelly bean Day
DESCRIPTION:$2 Dress Down Day – Wear Jelly Bean Colors – Benefits Art Club
URL:https://holysavioracademy.com/event/national-jelly-bean-day/
CATEGORIES:Events
END:VEVENT
BEGIN:VEVENT
DTSTART;VALUE=DATE:20260422
DTEND;VALUE=DATE:20260423
DTSTAMP:20260421T043345
CREATED:20260417T130306Z
LAST-MODIFIED:20260417T130306Z
UID:10001055-1776816000-1776902399@holysavioracademy.com
SUMMARY:HAPPY EARTH DAY!
DESCRIPTION:HAPPY EARTH DAY – Campus clean up
URL:https://holysavioracademy.com/event/happy-earth-day/
CATEGORIES:Events
END:VEVENT
BEGIN:VEVENT
DTSTART;TZID=America/New_York:20260424T190000
DTEND;TZID=America/New_York:20260424T210000
DTSTAMP:20260421T043345
CREATED:20260417T125446Z
LAST-MODIFIED:20260417T125446Z
UID:10001050-1777057200-1777064400@holysavioracademy.com
SUMMARY:Rising Star Concert
DESCRIPTION:Rising Star Concert @HSA – Grades PreK to 4
URL:https://holysavioracademy.com/event/rising-star-concert/
LOCATION:Holy Savior Academy – Gym
CATEGORIES:Events
END:VEVENT
BEGIN:VEVENT
DTSTART;TZID=America/New_York:20260426T080000
DTEND;TZID=America/New_York:20260426T113000
DTSTAMP:20260421T043345
CREATED:20260417T125948Z
LAST-MODIFIED:20260417T130106Z
UID:10001053-1777190400-1777203000@holysavioracademy.com
SUMMARY:Knights of Columbus - Piscataway Breakfast
DESCRIPTION:
URL:https://holysavioracademy.com/event/knights-of-columbus-piscataway-breakfast/
CATEGORIES:Events
END:VEVENT
BEGIN:VEVENT
DTSTART;VALUE=DATE:20260428
DTEND;VALUE=DATE:20260429
DTSTAMP:20260421T043345
CREATED:20260417T130212Z
LAST-MODIFIED:20260417T130212Z
UID:10001054-1777334400-1777420799@holysavioracademy.com
SUMMARY:Pay It Forward Day
DESCRIPTION:Pay It Forward Day – A little act of kindness goes a long way
URL:https://holysavioracademy.com/event/pay-it-forward-day/
END:VEVENT
END:VCALENDAR