BEGIN:VCALENDAR
VERSION:2.0
PRODID:-//Holy Savior Academy - ECPv6.15.20//NONSGML v1.0//EN
CALSCALE:GREGORIAN
METHOD:PUBLISH
X-ORIGINAL-URL:https://holysavioracademy.com
X-WR-CALDESC:Events for Holy Savior Academy
REFRESH-INTERVAL;VALUE=DURATION:PT1H
X-Robots-Tag:noindex
X-PUBLISHED-TTL:PT1H
BEGIN:VTIMEZONE
TZID:America/New_York
BEGIN:DAYLIGHT
TZOFFSETFROM:-0500
TZOFFSETTO:-0400
TZNAME:EDT
DTSTART:20240310T070000
END:DAYLIGHT
BEGIN:STANDARD
TZOFFSETFROM:-0400
TZOFFSETTO:-0500
TZNAME:EST
DTSTART:20241103T060000
END:STANDARD
BEGIN:DAYLIGHT
TZOFFSETFROM:-0500
TZOFFSETTO:-0400
TZNAME:EDT
DTSTART:20250309T070000
END:DAYLIGHT
BEGIN:STANDARD
TZOFFSETFROM:-0400
TZOFFSETTO:-0500
TZNAME:EST
DTSTART:20251102T060000
END:STANDARD
BEGIN:DAYLIGHT
TZOFFSETFROM:-0500
TZOFFSETTO:-0400
TZNAME:EDT
DTSTART:20260308T070000
END:DAYLIGHT
BEGIN:STANDARD
TZOFFSETFROM:-0400
TZOFFSETTO:-0500
TZNAME:EST
DTSTART:20261101T060000
END:STANDARD
END:VTIMEZONE
BEGIN:VEVENT
DTSTART;TZID=America/New_York:20251111T100000
DTEND;TZID=America/New_York:20251111T110000
DTSTAMP:20260422T201129
CREATED:20251103T134710Z
LAST-MODIFIED:20251103T134710Z
UID:10000738-1762855200-1762858800@holysavioracademy.com
SUMMARY:Veteran's Day Prayer Service
DESCRIPTION:Veteran’s Day Prayer Service in the Gym at 10:00 am.
URL:https://holysavioracademy.com/event/veterans-day-prayer-service/
LOCATION:Holy Savior Academy – Gym
CATEGORIES:School Mass
END:VEVENT
BEGIN:VEVENT
DTSTART;VALUE=DATE:20251112
DTEND;VALUE=DATE:20251113
DTSTAMP:20260422T201129
CREATED:20250912T161646Z
LAST-MODIFIED:20250912T162530Z
UID:10000737-1762905600-1762991999@holysavioracademy.com
SUMMARY:Red Robin Fundraiser
DESCRIPTION:  \nRed Robin Fundraiser \n 
URL:https://holysavioracademy.com/event/red-robin-fundraiser/
LOCATION:Red Robin  6200 Hadley Road South Plainfield NJ 07080\, 6200 Hadley Road\, South Plainfield\, New Jersey\, 07080
END:VEVENT
BEGIN:VEVENT
DTSTART;VALUE=DATE:20251112
DTEND;VALUE=DATE:20251113
DTSTAMP:20260422T201129
CREATED:20251103T135819Z
LAST-MODIFIED:20251103T135819Z
UID:10000739-1762905600-1762991999@holysavioracademy.com
SUMMARY:DINE OUT Red Robin South Plainfield
DESCRIPTION: \nDINE OUT Chipotle South Plainfield \n 
URL:https://holysavioracademy.com/event/dine-out-red-robin-south-plainfield/
LOCATION:Chipotle\, 6850 Hadley Road\, South Plainfiel\, NJ\, 07080
CATEGORIES:Events
END:VEVENT
BEGIN:VEVENT
DTSTART;VALUE=DATE:20251112
DTEND;VALUE=DATE:20251113
DTSTAMP:20260422T201129
CREATED:20240709T151231Z
LAST-MODIFIED:20251103T134922Z
UID:10000574-1762905600-1762991999@holysavioracademy.com
SUMMARY:12:00 Dismissal for Conferences
DESCRIPTION:
URL:https://holysavioracademy.com/event/1200-dismissal-for-conferences/
LOCATION:Holy Savior Academy\, 149 South Plainfield Avenue\, South Plainfield\, NJ\, 07080\, United States
CATEGORIES:Half Day,Parent Conferences
END:VEVENT
BEGIN:VEVENT
DTSTART;VALUE=DATE:20251127
DTEND;VALUE=DATE:20251128
DTSTAMP:20260422T201129
CREATED:20240709T151701Z
LAST-MODIFIED:20251103T134255Z
UID:10000576-1764201600-1764287999@holysavioracademy.com
SUMMARY:Thanksgiving - No School
DESCRIPTION:
URL:https://holysavioracademy.com/event/thanksgiving-no-school/
LOCATION:Holy Savior Academy\, 149 South Plainfield Avenue\, South Plainfield\, NJ\, 07080\, United States
CATEGORIES:Events,School Closed
END:VEVENT
END:VCALENDAR