BEGIN:VCALENDAR
VERSION:2.0
PRODID:-//Holy Savior Academy - ECPv6.15.20//NONSGML v1.0//EN
CALSCALE:GREGORIAN
METHOD:PUBLISH
X-ORIGINAL-URL:https://holysavioracademy.com
X-WR-CALDESC:Events for Holy Savior Academy
REFRESH-INTERVAL;VALUE=DURATION:PT1H
X-Robots-Tag:noindex
X-PUBLISHED-TTL:PT1H
BEGIN:VTIMEZONE
TZID:America/New_York
BEGIN:DAYLIGHT
TZOFFSETFROM:-0500
TZOFFSETTO:-0400
TZNAME:EDT
DTSTART:20240310T070000
END:DAYLIGHT
BEGIN:STANDARD
TZOFFSETFROM:-0400
TZOFFSETTO:-0500
TZNAME:EST
DTSTART:20241103T060000
END:STANDARD
BEGIN:DAYLIGHT
TZOFFSETFROM:-0500
TZOFFSETTO:-0400
TZNAME:EDT
DTSTART:20250309T070000
END:DAYLIGHT
BEGIN:STANDARD
TZOFFSETFROM:-0400
TZOFFSETTO:-0500
TZNAME:EST
DTSTART:20251102T060000
END:STANDARD
BEGIN:DAYLIGHT
TZOFFSETFROM:-0500
TZOFFSETTO:-0400
TZNAME:EDT
DTSTART:20260308T070000
END:DAYLIGHT
BEGIN:STANDARD
TZOFFSETFROM:-0400
TZOFFSETTO:-0500
TZNAME:EST
DTSTART:20261101T060000
END:STANDARD
BEGIN:DAYLIGHT
TZOFFSETFROM:-0500
TZOFFSETTO:-0400
TZNAME:EDT
DTSTART:20270314T070000
END:DAYLIGHT
BEGIN:STANDARD
TZOFFSETFROM:-0400
TZOFFSETTO:-0500
TZNAME:EST
DTSTART:20271107T060000
END:STANDARD
END:VTIMEZONE
BEGIN:VEVENT
DTSTART;VALUE=DATE:20251224
DTEND;VALUE=DATE:20260105
DTSTAMP:20260422T171807
CREATED:20240709T152902Z
LAST-MODIFIED:20251125T181143Z
UID:10000581-1766534400-1767571199@holysavioracademy.com
SUMMARY:No School for Christmas Break
DESCRIPTION:
URL:https://holysavioracademy.com/event/no-school-for-christmas-break/
LOCATION:Holy Savior Academy\, 149 South Plainfield Avenue\, South Plainfield\, NJ\, 07080\, United States
CATEGORIES:School Closed
END:VEVENT
BEGIN:VEVENT
DTSTART;VALUE=DATE:20260101
DTEND;VALUE=DATE:20260102
DTSTAMP:20260422T171807
CREATED:20241205T161714Z
LAST-MODIFIED:20251125T181500Z
UID:10000672-1767225600-1767311999@holysavioracademy.com
SUMMARY:Happy New Year !!!
DESCRIPTION:
URL:https://holysavioracademy.com/event/happy-new-year/
LOCATION:NJ
CATEGORIES:Events,Graduation Mass
END:VEVENT
BEGIN:VEVENT
DTSTART;VALUE=DATE:20260119
DTEND;VALUE=DATE:20260120
DTSTAMP:20260422T171807
CREATED:20240709T153345Z
LAST-MODIFIED:20260112T182057Z
UID:10000585-1768780800-1768867199@holysavioracademy.com
SUMMARY:No School - Martin Luther King
DESCRIPTION:
URL:https://holysavioracademy.com/event/no-school-martin-luther-king/
LOCATION:Holy Savior Academy\, 149 South Plainfield Avenue\, South Plainfield\, NJ\, 07080\, United States
CATEGORIES:Events,School Closed
END:VEVENT
BEGIN:VEVENT
DTSTART;TZID=America/New_York:20260125T133000
DTEND;TZID=America/New_York:20260125T170000
DTSTAMP:20260422T171807
CREATED:20260112T181210Z
LAST-MODIFIED:20260112T181210Z
UID:10000742-1769347800-1769360400@holysavioracademy.com
SUMMARY:50/50 Raffle Drawing
DESCRIPTION:
URL:https://holysavioracademy.com/event/50-50-raffle-drawing/
LOCATION:Holy Savior Academy\, 149 South Plainfield Avenue\, South Plainfield\, NJ\, 07080\, United States
CATEGORIES:Events
END:VEVENT
END:VCALENDAR