BEGIN:VCALENDAR
VERSION:2.0
PRODID:-//Holy Savior Academy - ECPv6.15.20//NONSGML v1.0//EN
CALSCALE:GREGORIAN
METHOD:PUBLISH
X-WR-CALNAME:Holy Savior Academy
X-ORIGINAL-URL:https://holysavioracademy.com
X-WR-CALDESC:Events for Holy Savior Academy
REFRESH-INTERVAL;VALUE=DURATION:PT1H
X-Robots-Tag:noindex
X-PUBLISHED-TTL:PT1H
BEGIN:VTIMEZONE
TZID:America/New_York
BEGIN:DAYLIGHT
TZOFFSETFROM:-0500
TZOFFSETTO:-0400
TZNAME:EDT
DTSTART:20250309T070000
END:DAYLIGHT
BEGIN:STANDARD
TZOFFSETFROM:-0400
TZOFFSETTO:-0500
TZNAME:EST
DTSTART:20251102T060000
END:STANDARD
BEGIN:DAYLIGHT
TZOFFSETFROM:-0500
TZOFFSETTO:-0400
TZNAME:EDT
DTSTART:20260308T070000
END:DAYLIGHT
BEGIN:STANDARD
TZOFFSETFROM:-0400
TZOFFSETTO:-0500
TZNAME:EST
DTSTART:20261101T060000
END:STANDARD
BEGIN:DAYLIGHT
TZOFFSETFROM:-0500
TZOFFSETTO:-0400
TZNAME:EDT
DTSTART:20270314T070000
END:DAYLIGHT
BEGIN:STANDARD
TZOFFSETFROM:-0400
TZOFFSETTO:-0500
TZNAME:EST
DTSTART:20271107T060000
END:STANDARD
END:VTIMEZONE
BEGIN:VEVENT
DTSTART;TZID=America/New_York:20260201T123000
DTEND;TZID=America/New_York:20260201T143000
DTSTAMP:20260422T154036
CREATED:20240709T164928Z
LAST-MODIFIED:20260131T020008Z
UID:10000609-1769949000-1769956200@holysavioracademy.com
SUMMARY:Open House Rescheduled
DESCRIPTION:
URL:https://holysavioracademy.com/event/open-house/
LOCATION:Holy Savior Academy\, 149 South Plainfield Avenue\, South Plainfield\, NJ\, 07080\, United States
CATEGORIES:Events
END:VEVENT
BEGIN:VEVENT
DTSTART;VALUE=DATE:20260202
DTEND;VALUE=DATE:20260207
DTSTAMP:20260422T154036
CREATED:20260131T015428Z
LAST-MODIFIED:20260202T135835Z
UID:10000925-1769990400-1770422399@holysavioracademy.com
SUMMARY:MAP Testing
DESCRIPTION:MAP Testing \nFeb 2 – Feb 19
URL:https://holysavioracademy.com/event/map-testing-2/
LOCATION:NJ
CATEGORIES:Events,MAP Testing
END:VEVENT
BEGIN:VEVENT
DTSTART;VALUE=DATE:20260204
DTEND;VALUE=DATE:20260205
DTSTAMP:20260422T154036
CREATED:20260131T014127Z
LAST-MODIFIED:20260131T014127Z
UID:10000827-1770163200-1770249599@holysavioracademy.com
SUMMARY:100 Days of School
DESCRIPTION:Grades PreK – 3 Dress up like 100 years old or decorate your shirt with 100 items.
URL:https://holysavioracademy.com/event/100-days-of-school/
LOCATION:NJ
CATEGORIES:Events
END:VEVENT
BEGIN:VEVENT
DTSTART;VALUE=DATE:20260204
DTEND;VALUE=DATE:20260207
DTSTAMP:20260422T154036
CREATED:20260131T015118Z
LAST-MODIFIED:20260202T135436Z
UID:10000921-1770163200-1770422399@holysavioracademy.com
SUMMARY:"Soup"er Bowl Food Drive
DESCRIPTION:Collecting canned goods to help replenish the Sacred Heart Food Pantry
URL:https://holysavioracademy.com/event/souper-bowl-food-drive/
LOCATION:NJ
CATEGORIES:Events,Food Drive
END:VEVENT
BEGIN:VEVENT
DTSTART;VALUE=DATE:20260206
DTEND;VALUE=DATE:20260207
DTSTAMP:20260422T154036
CREATED:20260131T011116Z
LAST-MODIFIED:20260131T013917Z
UID:10000749-1770336000-1770422399@holysavioracademy.com
SUMMARY:$2 Dress Down Day
DESCRIPTION:Wear your favorite team jersey before Super Bowl Sunday
URL:https://holysavioracademy.com/event/2-dress-down-day/
LOCATION:NJ
CATEGORIES:Events
END:VEVENT
BEGIN:VEVENT
DTSTART;TZID=America/New_York:20260206T190000
DTEND;TZID=America/New_York:20260206T210000
DTSTAMP:20260422T154036
CREATED:20260114T194546Z
LAST-MODIFIED:20260206T160124Z
UID:10000745-1770404400-1770411600@holysavioracademy.com
SUMMARY:HSA's Got Talent
DESCRIPTION:
URL:https://holysavioracademy.com/event/hsas-got-talent/
LOCATION:Holy Savior Academy – Gym
CATEGORIES:Events,School Play
END:VEVENT
BEGIN:VEVENT
DTSTART;VALUE=DATE:20260209
DTEND;VALUE=DATE:20260214
DTSTAMP:20260422T154036
CREATED:20260131T015343Z
LAST-MODIFIED:20260202T140058Z
UID:10000924-1770595200-1771027199@holysavioracademy.com
SUMMARY:MAP Testing
DESCRIPTION:MAP Testing \nFeb 2 – Feb 19
URL:https://holysavioracademy.com/event/map-testing/
LOCATION:NJ
CATEGORIES:Events,MAP Testing
END:VEVENT
BEGIN:VEVENT
DTSTART;VALUE=DATE:20260211
DTEND;VALUE=DATE:20260212
DTSTAMP:20260422T154036
CREATED:20260131T014509Z
LAST-MODIFIED:20260131T014743Z
UID:10000919-1770768000-1770854399@holysavioracademy.com
SUMMARY:$2 Dress Down Day
DESCRIPTION:$2.00 Dress Down Day \nWear RED \nDonation will be made to the American Heart Association
URL:https://holysavioracademy.com/event/2-dress-down-day-2/
LOCATION:NJ
CATEGORIES:Events
END:VEVENT
BEGIN:VEVENT
DTSTART;VALUE=DATE:20260213
DTEND;VALUE=DATE:20260214
DTSTAMP:20260422T154036
CREATED:20260131T014646Z
LAST-MODIFIED:20260202T135552Z
UID:10000920-1770940800-1771027199@holysavioracademy.com
SUMMARY:NO SCHOOL
DESCRIPTION:No School \nProfessional Day for Teachers \nNo school for students
URL:https://holysavioracademy.com/event/no-school/
LOCATION:NJ
CATEGORIES:Events,School Closed
END:VEVENT
BEGIN:VEVENT
DTSTART;VALUE=DATE:20260216
DTEND;VALUE=DATE:20260217
DTSTAMP:20260422T154036
CREATED:20260131T015215Z
LAST-MODIFIED:20260202T135708Z
UID:10000922-1771200000-1771286399@holysavioracademy.com
SUMMARY:NO SCHOOL - President's Day
DESCRIPTION:No School \nPresident’s Day
URL:https://holysavioracademy.com/event/no-school-3/
LOCATION:NJ
CATEGORIES:Events,School Closed
END:VEVENT
BEGIN:VEVENT
DTSTART;VALUE=DATE:20260217
DTEND;VALUE=DATE:20260220
DTSTAMP:20260422T154036
CREATED:20260131T015517Z
LAST-MODIFIED:20260202T135512Z
UID:10000926-1771286400-1771545599@holysavioracademy.com
SUMMARY:MAP Testing
DESCRIPTION:MAP Testing \nFeb 2 – Feb 19
URL:https://holysavioracademy.com/event/map-testing-3/
LOCATION:NJ
CATEGORIES:Events,MAP Testing
END:VEVENT
BEGIN:VEVENT
DTSTART;VALUE=DATE:20260218
DTEND;VALUE=DATE:20260219
DTSTAMP:20260422T154036
CREATED:20260131T015257Z
LAST-MODIFIED:20260206T160039Z
UID:10000923-1771372800-1771459199@holysavioracademy.com
SUMMARY:Ash Wednesday
DESCRIPTION:
URL:https://holysavioracademy.com/event/ash-wednesday/
LOCATION:NJ
CATEGORIES:Events,Notice
END:VEVENT
BEGIN:VEVENT
DTSTART;TZID=America/New_York:20260220T080000
DTEND;TZID=America/New_York:20260222T180000
DTSTAMP:20260422T154036
CREATED:20260114T195056Z
LAST-MODIFIED:20260206T155533Z
UID:10000746-1771574400-1771783200@holysavioracademy.com
SUMMARY:Snow Ball Basketball
DESCRIPTION:
URL:https://holysavioracademy.com/event/snow-ball-basketball/
LOCATION:Holy Savior Academy – Gym
CATEGORIES:Events
END:VEVENT
END:VCALENDAR