BEGIN:VCALENDAR
VERSION:2.0
PRODID:-//Holy Savior Academy - ECPv6.15.20//NONSGML v1.0//EN
CALSCALE:GREGORIAN
METHOD:PUBLISH
X-WR-CALNAME:Holy Savior Academy
X-ORIGINAL-URL:https://holysavioracademy.com
X-WR-CALDESC:Events for Holy Savior Academy
REFRESH-INTERVAL;VALUE=DURATION:PT1H
X-Robots-Tag:noindex
X-PUBLISHED-TTL:PT1H
BEGIN:VTIMEZONE
TZID:America/New_York
BEGIN:DAYLIGHT
TZOFFSETFROM:-0500
TZOFFSETTO:-0400
TZNAME:EDT
DTSTART:20250309T070000
END:DAYLIGHT
BEGIN:STANDARD
TZOFFSETFROM:-0400
TZOFFSETTO:-0500
TZNAME:EST
DTSTART:20251102T060000
END:STANDARD
BEGIN:DAYLIGHT
TZOFFSETFROM:-0500
TZOFFSETTO:-0400
TZNAME:EDT
DTSTART:20260308T070000
END:DAYLIGHT
BEGIN:STANDARD
TZOFFSETFROM:-0400
TZOFFSETTO:-0500
TZNAME:EST
DTSTART:20261101T060000
END:STANDARD
BEGIN:DAYLIGHT
TZOFFSETFROM:-0500
TZOFFSETTO:-0400
TZNAME:EDT
DTSTART:20270314T070000
END:DAYLIGHT
BEGIN:STANDARD
TZOFFSETFROM:-0400
TZOFFSETTO:-0500
TZNAME:EST
DTSTART:20271107T060000
END:STANDARD
END:VTIMEZONE
BEGIN:VEVENT
DTSTART;VALUE=DATE:20260302
DTEND;VALUE=DATE:20260303
DTSTAMP:20260422T095823
CREATED:20250224T152415Z
LAST-MODIFIED:20260302T161507Z
UID:10000683-1772409600-1772495999@holysavioracademy.com
SUMMARY:CRAZY SOCKS DAY
DESCRIPTION:
URL:https://holysavioracademy.com/event/crazy-socks-day/
LOCATION:Holy Savior Academy\, 149 South Plainfield Avenue\, South Plainfield\, NJ\, 07080\, United States
CATEGORIES:Art Show
END:VEVENT
BEGIN:VEVENT
DTSTART;TZID=America/New_York:20260304T134500
DTEND;TZID=America/New_York:20260304T143000
DTSTAMP:20260422T095823
CREATED:20260302T164324Z
LAST-MODIFIED:20260302T164324Z
UID:10000934-1772631900-1772634600@holysavioracademy.com
SUMMARY:Stations of the Cross
DESCRIPTION:
URL:https://holysavioracademy.com/event/stations-of-the-cross/
LOCATION:Sacred Heart Church\, 149 South Plainfield Avenue\, South Plainfield\, NJ\, 07080\, United States
CATEGORIES:Events,Prayer Service
END:VEVENT
BEGIN:VEVENT
DTSTART;VALUE=DATE:20260306
DTEND;VALUE=DATE:20260307
DTSTAMP:20260422T095823
CREATED:20260131T010503Z
LAST-MODIFIED:20260302T161724Z
UID:10000748-1772755200-1772841599@holysavioracademy.com
SUMMARY:Early Dismissal - 12pm
DESCRIPTION:Early Dismissal \n11:45 PreK \n12:00pm K-8 \nAftercare available
URL:https://holysavioracademy.com/event/early-dismissal-12pm/
LOCATION:NJ
CATEGORIES:Events
END:VEVENT
BEGIN:VEVENT
DTSTART;TZID=America/New_York:20260306T180000
DTEND;TZID=America/New_York:20260306T193000
DTSTAMP:20260422T095823
CREATED:20250224T152639Z
LAST-MODIFIED:20260209T135806Z
UID:10000685-1772820000-1772825400@holysavioracademy.com
SUMMARY:CANDY BINGO
DESCRIPTION:
URL:https://holysavioracademy.com/event/candy-bingo/
LOCATION:Holy Savior Academy – Cafeteria
CATEGORIES:Events
END:VEVENT
BEGIN:VEVENT
DTSTART;TZID=America/New_York:20260307T190000
DTEND;TZID=America/New_York:20260307T220000
DTSTAMP:20260422T095823
CREATED:20251215T185455Z
LAST-MODIFIED:20260206T155336Z
UID:10000741-1772910000-1772920800@holysavioracademy.com
SUMMARY:Designer Bag Bingo
DESCRIPTION:Purchase Tickets at: \nHSA2026Bingo.Cheddarup.com \n  \n 
URL:https://holysavioracademy.com/event/pocketbook-bingo-2/
LOCATION:Holy Savior Academy – Cafeteria
CATEGORIES:Events
END:VEVENT
BEGIN:VEVENT
DTSTART;VALUE=DATE:20260308
DTEND;VALUE=DATE:20260309
DTSTAMP:20260422T095823
CREATED:20260302T162128Z
LAST-MODIFIED:20260302T162128Z
UID:10000930-1772928000-1773014399@holysavioracademy.com
SUMMARY:Day Light Savings Time
DESCRIPTION:Spring Ahead – Daylight Savings Time
URL:https://holysavioracademy.com/event/day-light-savings-time/
LOCATION:NJ
END:VEVENT
BEGIN:VEVENT
DTSTART;TZID=America/New_York:20260313T133000
DTEND;TZID=America/New_York:20260313T143000
DTSTAMP:20260422T095823
CREATED:20260302T161921Z
LAST-MODIFIED:20260302T161941Z
UID:10000929-1773408600-1773412200@holysavioracademy.com
SUMMARY:NJ Honor Society Induction
DESCRIPTION:NJ Honor Society Induction at 1:30pm
URL:https://holysavioracademy.com/event/nj-honor-society-induction/
LOCATION:NJ
CATEGORIES:Events
END:VEVENT
BEGIN:VEVENT
DTSTART;VALUE=DATE:20260320
DTEND;VALUE=DATE:20260321
DTSTAMP:20260422T095823
CREATED:20260112T181657Z
LAST-MODIFIED:20260302T162840Z
UID:10000743-1773964800-1774051199@holysavioracademy.com
SUMMARY:End of 3rd Marking Period
DESCRIPTION:
URL:https://holysavioracademy.com/event/end-of-2nd-marking-period/
LOCATION:Holy Savior Academy\, 149 South Plainfield Avenue\, South Plainfield\, NJ\, 07080\, United States
CATEGORIES:Events
END:VEVENT
BEGIN:VEVENT
DTSTART;VALUE=DATE:20260323
DTEND;VALUE=DATE:20260324
DTSTAMP:20260422T095823
CREATED:20260112T181824Z
LAST-MODIFIED:20260302T162505Z
UID:10000744-1774224000-1774310399@holysavioracademy.com
SUMMARY:Begin of 4th Marking Period
DESCRIPTION:
URL:https://holysavioracademy.com/event/begin-of-3rd-marking-period/
LOCATION:Holy Savior Academy\, 149 South Plainfield Avenue\, South Plainfield\, NJ\, 07080\, United States
CATEGORIES:Events
END:VEVENT
BEGIN:VEVENT
DTSTART;TZID=America/New_York:20260324T190000
DTEND;TZID=America/New_York:20260324T200000
DTSTAMP:20260422T095823
CREATED:20250305T142003Z
LAST-MODIFIED:20260302T162603Z
UID:10000698-1774378800-1774382400@holysavioracademy.com
SUMMARY:Q4 PTO In-Person Meeting
DESCRIPTION:
URL:https://holysavioracademy.com/event/q4-pto-in-person-meeting/
LOCATION:Holy Savior Academy – Cafeteria
CATEGORIES:Events
END:VEVENT
BEGIN:VEVENT
DTSTART;VALUE=DATE:20260325
DTEND;VALUE=DATE:20260326
DTSTAMP:20260422T095823
CREATED:20250106T142720Z
LAST-MODIFIED:20260302T163410Z
UID:10000676-1774396800-1774483199@holysavioracademy.com
SUMMARY:Report Cards
DESCRIPTION:
URL:https://holysavioracademy.com/event/report-cards/
LOCATION:Holy Savior Academy\, 149 South Plainfield Avenue\, South Plainfield\, NJ\, 07080\, United States
CATEGORIES:Events,Graduation
END:VEVENT
BEGIN:VEVENT
DTSTART;TZID=America/New_York:20260326T180000
DTEND;TZID=America/New_York:20260326T200000
DTSTAMP:20260422T095823
CREATED:20250505T164951Z
LAST-MODIFIED:20260302T163628Z
UID:10000721-1774548000-1774555200@holysavioracademy.com
SUMMARY:Girl Scouts
DESCRIPTION:
URL:https://holysavioracademy.com/event/scouts/
LOCATION:NJ
CATEGORIES:Events
END:VEVENT
BEGIN:VEVENT
DTSTART;TZID=America/New_York:20260331T133000
DTEND;TZID=America/New_York:20260331T140000
DTSTAMP:20260422T095823
CREATED:20250328T160141Z
LAST-MODIFIED:20260302T163002Z
UID:10000703-1774963800-1774965600@holysavioracademy.com
SUMMARY:LIVING STATIONS OF THE CROSS
DESCRIPTION:
URL:https://holysavioracademy.com/event/living-stations-of-the-cross/
LOCATION:Sacred Heart Church\, 149 South Plainfield Avenue\, South Plainfield\, NJ\, 07080\, United States
CATEGORIES:Events
END:VEVENT
END:VCALENDAR